BEGIN:VCALENDAR
VERSION:2.0
PRODID:-//Georgia Society of Professional Engineers - ECPv6.15.20//NONSGML v1.0//EN
CALSCALE:GREGORIAN
METHOD:PUBLISH
X-WR-CALNAME:Georgia Society of Professional Engineers
X-ORIGINAL-URL:https://gspe.org
X-WR-CALDESC:Events for Georgia Society of Professional Engineers
REFRESH-INTERVAL;VALUE=DURATION:PT1H
X-Robots-Tag:noindex
X-PUBLISHED-TTL:PT1H
BEGIN:VTIMEZONE
TZID:UTC
BEGIN:STANDARD
TZOFFSETFROM:+0000
TZOFFSETTO:+0000
TZNAME:UTC
DTSTART:20240101T000000
END:STANDARD
END:VTIMEZONE
BEGIN:VEVENT
DTSTART;TZID=UTC:20250609T180000
DTEND;TZID=UTC:20250609T200000
DTSTAMP:20260424T065413
CREATED:20250528T232630Z
LAST-MODIFIED:20250528T232630Z
UID:11121-1749492000-1749499200@gspe.org
SUMMARY:Securing the Smart World: Why Engineers Must Lead in the Age of AI & Cyber Threats  :: GSPE Atlanta Metro Monthly Dinner Meeting – June 9\, 2025
DESCRIPTION:GSPE Atlanta Metro Monthly Dinner Meeting – June 9\, 2025\nPresentation Topic:Securing the Smart World: Why Engineers Must Lead in the Age of AI & Cyber ThreatsSpeaker: Jay Brackman\, Senior Sales Executive\, Thrive \n📍 Location: Piccadilly Cafeteria\, 2000 Crescent Centre Blvd.\, Tucker\, GA📅 Date & Time: Monday\, June 9\, 2025 | Networking starts at 6:00 PM | Program at 7:00 PM🎟️ Cost: Free to attend. Dinner available for purchase at the cafeteria.🛠️ PDH Credit: 1 Professional Development Hour (PDH) available \n\nAs artificial intelligence and cybersecurity shape the future of engineering\, what role will engineers play in safeguarding our smart world? \nJoin the Georgia Society of Professional Engineers (GSPE) – Atlanta Metro Chapter for our free monthly dinner meeting on Monday\, June 9\, featuring a timely and thought-provoking presentation by Jay Brackman\, Senior Sales Executive at Thrive\, a leading global Managed Services Provider. \nIn his talk\, “Securing the Smart World: Why Engineers Must Lead in the Age of AI and Cyber Threats\,” Jay will explore the complex and often contradictory impact of AI on engineering and public safety. As technology rapidly evolves\, engineers are called to lead—balancing innovation with responsibility\, and opportunity with risk. \nTopics will include: \n\n\nThe dual nature of AI in cybersecurity—tool or threat? \n\n\nToday’s most pressing cyber risks and what’s on the horizon \n\n\nHow engineers can and must take the lead in securing smart infrastructure \n\n\nPractical insights to ensure resilient\, forward-looking engineering projects \n\n\nAbout the Speaker:Jay Brackman’s career in technology began unexpectedly after 9/11 and evolved through leadership roles at Computer Troubleshooters\, weighing tech firms\, and top-tier MSPs. Today\, he helps organizations make informed technology decisions through his work at Thrive\, a global NextGen MSP/MSSP with over 1\,500 employees in 20 countries. With a background in education and a passion for helping others succeed\, Jay brings a unique blend of technical knowledge and people-first insight to every talk. \n\nAbout GSPE Monthly Meetings:Hosted by the Atlanta Metro Chapter\, GSPE monthly meetings take place on the second Monday of each month from September through June. These events offer a chance to network\, learn\, and earn PDH credit. While the meeting and presentation are free\, attendees are welcome to purchase dinner directly from the Piccadilly Cafeteria upon arrival. \nCan’t attend in person? The presentation will be archived on the GSPE YouTube channel: youtube.com/GSPEng \n\nJoin Us!📆 Mark your calendar for June 9🍽️ Attend for free | Purchase dinner onsite if you’d like👷‍♂️ Earn your PDH💬 Bring questions and curiosity \nWe look forward to seeing you there!
URL:https://gspe.org/event/securing-the-smart-world-why-engineers-must-lead-in-the-age-of-ai-cyber-threats-gspe-atlanta-metro-monthly-dinner-meeting-june-9-2025/
LOCATION:Piccadilly Cafeteria\, Tucker\, 2000 Crescent Centre Blvd\, Tucker\, GA\, 30084\, United States
END:VEVENT
END:VCALENDAR