BEGIN:VCALENDAR
VERSION:2.0
PRODID:-//Georgia Society of Professional Engineers - ECPv6.15.20//NONSGML v1.0//EN
CALSCALE:GREGORIAN
METHOD:PUBLISH
X-WR-CALNAME:Georgia Society of Professional Engineers
X-ORIGINAL-URL:https://gspe.org
X-WR-CALDESC:Events for Georgia Society of Professional Engineers
REFRESH-INTERVAL;VALUE=DURATION:PT1H
X-Robots-Tag:noindex
X-PUBLISHED-TTL:PT1H
BEGIN:VTIMEZONE
TZID:UTC
BEGIN:STANDARD
TZOFFSETFROM:+0000
TZOFFSETTO:+0000
TZNAME:UTC
DTSTART:20240101T000000
END:STANDARD
END:VTIMEZONE
BEGIN:VEVENT
DTSTART;TZID=UTC:20250612T180000
DTEND;TZID=UTC:20250612T200000
DTSTAMP:20260424T065413
CREATED:20250505T144432Z
LAST-MODIFIED:20250528T232028Z
UID:10516-1749751200-1749758400@gspe.org
SUMMARY:GSPE Topgolf Social – Midtown Atlanta
DESCRIPTION:Presented by GSPE and Land EngineeringJune 12 | Topgolf Midtown | 6:00 PM \nThe Georgia Society of Professional Engineers (GSPE) invites you to join us for a casual evening of golf\, food\, and connection with fellow engineers and industry professionals. \nThis event is part of our ongoing effort to bring Georgia’s engineering community together—offering opportunities to connect\, share ideas\, and strengthen our profession. \nREGISTER \nEvent Supporters:\n \n \n \n \nEvent Highlights:\n\nReserved hitting bays for relaxed\, friendly play\nLight appetizers\nNetwork with GSPE members\, guests\, and local leaders\nLearn more about GSPE membership and how we support Georgia engineers\n\nWho Should Attend:\n\nLicensed Professional Engineers\nEITs and early-career professionals\nEngineering students\nAnyone interested in the future of engineering in Georgia\n\nWhy GSPE?\nGSPE advocates for Georgia’s engineers\, offers continuing education opportunities\, and builds community through local chapters and statewide programs. Attending this event is a great way to learn how GSPE membership can support your career and your profession. \n\nSpots are limited – register now to reserve yours!
URL:https://gspe.org/event/gspe-topgolf-social-midtown-atlanta/
END:VEVENT
END:VCALENDAR