BEGIN:VCALENDAR
VERSION:2.0
PRODID:-//Georgia Society of Professional Engineers - ECPv6.15.20//NONSGML v1.0//EN
CALSCALE:GREGORIAN
METHOD:PUBLISH
X-ORIGINAL-URL:https://gspe.org
X-WR-CALDESC:Events for Georgia Society of Professional Engineers
REFRESH-INTERVAL;VALUE=DURATION:PT1H
X-Robots-Tag:noindex
X-PUBLISHED-TTL:PT1H
BEGIN:VTIMEZONE
TZID:UTC
BEGIN:STANDARD
TZOFFSETFROM:+0000
TZOFFSETTO:+0000
TZNAME:UTC
DTSTART:20240101T000000
END:STANDARD
END:VTIMEZONE
BEGIN:VEVENT
DTSTART;TZID=UTC:20250908T180000
DTEND;TZID=UTC:20250908T200000
DTSTAMP:20260424T025732
CREATED:20250908T155606Z
LAST-MODIFIED:20250908T155606Z
UID:11413-1757354400-1757361600@gspe.org
SUMMARY:Investigations Without the Missteps\, Pitfalls & Consequences
DESCRIPTION:The Georgia Society of Professional Engineers – Atlanta Metro Chapter invites you to our September meeting featuring J. Larry Stine\, Esq.\, Sr. Principal at Wimberly\, Lawson\, Steckel\, Schneider & Stine. \nLarry will present “Investigations Without the Missteps\, Pitfalls & Consequences\,” a practical look at how improper investigations can lead to costly mistakes\, career-altering liability\, and risks to public welfare. Drawing from his extensive legal experience\, Larry will highlight the kinds of missteps engineers must avoid and provide strategies for conducting sound investigations that protect both engineers and the public. \n  \nWhat to Expect: \n\n\nReal-world examples of investigative pitfalls and their consequences \n\n\nGuidance on avoiding common biases and errors in engineering investigations \n\n\nInsights into the engineer’s responsibility to safeguard health\, safety\, and welfare \n\n\nWhether you’re a licensed PE\, aspiring engineer\, student\, or simply interested in how engineering practice intersects with risk and responsibility\, this session offers valuable lessons you can apply in your professional work. \n  \nSpeaker: \nJ. Larry Stine is a Senior Principal and former Region IV Counsel for OSHA. He is nationally recognized for his expertise in OSHA\, wage and hour laws\, and co-authors leading texts on compliance and practice. \n  \nDetails: \n\n\nDate/Time: Monday\, September 8\, 2025\, at 6:00 p.m. \n\n\nLocation: Piccadilly Cafeteria\, 2000 Crescent Centre Blvd.\, Tucker\, GA 30084 \n\n\nCost: Free monthly meeting (includes one PDH credit for PEs). Dinner is available for purchase.
URL:https://gspe.org/event/investigations-without-the-missteps-pitfalls-consequences/
LOCATION:Piccadilly Cafeteria\, Tucker\, 2000 Crescent Centre Blvd\, Tucker\, GA\, 30084\, United States
END:VEVENT
END:VCALENDAR