BEGIN:VCALENDAR
VERSION:2.0
PRODID:-//Georgia Society of Professional Engineers - ECPv6.15.20//NONSGML v1.0//EN
CALSCALE:GREGORIAN
METHOD:PUBLISH
X-ORIGINAL-URL:https://gspe.org
X-WR-CALDESC:Events for Georgia Society of Professional Engineers
REFRESH-INTERVAL;VALUE=DURATION:PT1H
X-Robots-Tag:noindex
X-PUBLISHED-TTL:PT1H
BEGIN:VTIMEZONE
TZID:UTC
BEGIN:STANDARD
TZOFFSETFROM:+0000
TZOFFSETTO:+0000
TZNAME:UTC
DTSTART:20240101T000000
END:STANDARD
END:VTIMEZONE
BEGIN:VEVENT
DTSTART;TZID=UTC:20250909T160000
DTEND;TZID=UTC:20250909T180000
DTSTAMP:20260424T025738
CREATED:20250904T172933Z
LAST-MODIFIED:20250904T172933Z
UID:11411-1757433600-1757440800@gspe.org
SUMMARY:NWGA GSPE Meeting - September 9\, 2025 - Tour of the Nova River District Apartment Complex
DESCRIPTION:What  \nCaley Pinson will lead a tour of the new construction at the Nova River District Apartment Complex. We will meet in the lobby on the Fifth Avenue side of the complex. The tour will be of the completed units and amenities. Unfortunately\, we will not be able to see the continuing construction of the units not yet completed. After the tour we will meet at Sam’s Burger for dinner. \n  \nWhen  \nTuesday\, September 9\, 2025 \n4:00 PM Tour \nDinner to follow at Sam’s Burger Deli \n  \nWhere  \nNova River District Apartment Complex \n340 West Third Street \nRome\, GA 30161 \n  \nPDH will be awarded.
URL:https://gspe.org/event/nwga-gspe-meeting-september-9-2025-tour-of-the-nova-river-district-apartment-complex/
END:VEVENT
END:VCALENDAR