BEGIN:VCALENDAR
VERSION:2.0
PRODID:-//Georgia Society of Professional Engineers - ECPv6.15.20//NONSGML v1.0//EN
CALSCALE:GREGORIAN
METHOD:PUBLISH
X-WR-CALNAME:Georgia Society of Professional Engineers
X-ORIGINAL-URL:https://gspe.org
X-WR-CALDESC:Events for Georgia Society of Professional Engineers
REFRESH-INTERVAL;VALUE=DURATION:PT1H
X-Robots-Tag:noindex
X-PUBLISHED-TTL:PT1H
BEGIN:VTIMEZONE
TZID:UTC
BEGIN:STANDARD
TZOFFSETFROM:+0000
TZOFFSETTO:+0000
TZNAME:UTC
DTSTART:20240101T000000
END:STANDARD
END:VTIMEZONE
BEGIN:VEVENT
DTSTART;TZID=UTC:20250918T043000
DTEND;TZID=UTC:20250918T063000
DTSTAMP:20260424T025615
CREATED:20250813T205821Z
LAST-MODIFIED:20250813T205821Z
UID:11170-1758169800-1758177000@gspe.org
SUMMARY:GSPE's New PE Recognition Event 2025
DESCRIPTION:Celebrate Georgia’s Newest Professional Engineers!\n\nBecoming a Professional Engineer is a heavy endeavor that deserves celebrating!\nWe hope you will join us for this celebration and networking event. \nSeptember 18\, 2025 | 4:30 PM – 6:30 PM\nASW Distillery at The Battery Atlanta\n900 Battery Ave SE Suite 1035\, Atlanta\, GA 30339 \nYour all-inclusive ticket includes tastings\, spirits\, mixed drinks\, and food. Guests Welcome.\nAttendees of the event will receive a behind-the-scenes tour of how ASW’s award-winning craft vodka and gin are distilled in a beautiful copper hybrid column/pot still. \n\n\n\n\nGo to Registration\n\n\n\n\nPartnerships are available. Contact Amanda@GSPE.org or sign up online.
URL:https://gspe.org/event/new-pe-recognition-event-2/
LOCATION:ASW Distillery at The Battery Atlanta\, 900 Battery Ave SE Suite 1035\, Atlanta\, GA\, 30339\, United States
ATTACH;FMTTYPE=image/png:https://gspe.org/wp-content/uploads/2024/08/Grey-Geometric-Style-Alumni-Reunion-Invitation-Instagram-Post.png
END:VEVENT
END:VCALENDAR