BEGIN:VCALENDAR
VERSION:2.0
PRODID:-//Georgia Society of Professional Engineers - ECPv6.15.20//NONSGML v1.0//EN
CALSCALE:GREGORIAN
METHOD:PUBLISH
X-WR-CALNAME:Georgia Society of Professional Engineers
X-ORIGINAL-URL:https://gspe.org
X-WR-CALDESC:Events for Georgia Society of Professional Engineers
REFRESH-INTERVAL;VALUE=DURATION:PT1H
X-Robots-Tag:noindex
X-PUBLISHED-TTL:PT1H
BEGIN:VTIMEZONE
TZID:UTC
BEGIN:STANDARD
TZOFFSETFROM:+0000
TZOFFSETTO:+0000
TZNAME:UTC
DTSTART:20240101T000000
END:STANDARD
END:VTIMEZONE
BEGIN:VEVENT
DTSTART;VALUE=DATE:20251010
DTEND;VALUE=DATE:20251011
DTSTAMP:20260424T013409
CREATED:20251008T025024Z
LAST-MODIFIED:20251008T025036Z
UID:11444-1760054400-1760140799@gspe.org
SUMMARY:Deadline for GSPE Engineer of the Year Awards
DESCRIPTION:GSPE Engineer of the Year Awards\n\nThe GSPE Engineer of the Year Awards is an annual recognition program organized by the Georgia Society of Professional Engineers (GSPE). These awards aim to honor outstanding professional engineers who have made significant contributions to the engineering profession and their communities in Georgia. \nThe program includes different categories of awards to recognize engineers at various stages of their careers and from diverse engineering disciplines. These awards\, presented by GEORGIA SOCIETY OF PROFESSIONAL ENGINEERS\, are presented at the ACEC Engineering Excellence Awards program March 6\, 2026. \n\n\n\n\n\n\n\n\nDeadline Updated: Now October 10
URL:https://gspe.org/event/deadline-for-gspe-engineer-of-the-year-awards/
END:VEVENT
END:VCALENDAR