BEGIN:VCALENDAR
VERSION:2.0
PRODID:-//Georgia Society of Professional Engineers - ECPv6.15.20//NONSGML v1.0//EN
CALSCALE:GREGORIAN
METHOD:PUBLISH
X-ORIGINAL-URL:https://gspe.org
X-WR-CALDESC:Events for Georgia Society of Professional Engineers
REFRESH-INTERVAL;VALUE=DURATION:PT1H
X-Robots-Tag:noindex
X-PUBLISHED-TTL:PT1H
BEGIN:VTIMEZONE
TZID:UTC
BEGIN:STANDARD
TZOFFSETFROM:+0000
TZOFFSETTO:+0000
TZNAME:UTC
DTSTART:20240101T000000
END:STANDARD
END:VTIMEZONE
BEGIN:VEVENT
DTSTART;TZID=UTC:20251111T173000
DTEND;TZID=UTC:20251111T190000
DTSTAMP:20260424T001155
CREATED:20251110T153700Z
LAST-MODIFIED:20251110T153700Z
UID:11484-1762882200-1762887600@gspe.org
SUMMARY:Northwest Georgia Chapter GSPE November Meeting
DESCRIPTION:Join us for the November Meeting of the Northwest Georgia Chapter of the Georgia Society of Professional Engineers (GSPE)! Connect with fellow engineers over dinner and learn about exciting local projects shaping our community. Earn a PDH while enjoying a casual evening of networking and professional development. \nEvent Details:\nWhen: Tuesday\, November 11\, 2025\n5:30 PM – Meal & Social\n6:00 PM – Program\nWhere: Sam’s Burger Deli\, 3268 Martha Berry Highway\, Rome\, GA 30161\nTopic: Members will share updates on current engineering projects.\nPDH: 1 PDH will be awarded. \nAll engineers\, colleagues\, and guests are welcome! Bring a friend and help grow our engineering community.
URL:https://gspe.org/event/northwest-georgia-chapter-gspe-november-meeting/
LOCATION:Sam’s Burger Deli\, 3268 Martha Berry Highway\, Rome\, GA\, 30165\, United States
END:VEVENT
END:VCALENDAR