BEGIN:VCALENDAR
VERSION:2.0
PRODID:-//Georgia Society of Professional Engineers - ECPv6.15.20//NONSGML v1.0//EN
CALSCALE:GREGORIAN
METHOD:PUBLISH
X-WR-CALNAME:Georgia Society of Professional Engineers
X-ORIGINAL-URL:https://gspe.org
X-WR-CALDESC:Events for Georgia Society of Professional Engineers
REFRESH-INTERVAL;VALUE=DURATION:PT1H
X-Robots-Tag:noindex
X-PUBLISHED-TTL:PT1H
BEGIN:VTIMEZONE
TZID:UTC
BEGIN:STANDARD
TZOFFSETFROM:+0000
TZOFFSETTO:+0000
TZNAME:UTC
DTSTART:20240101T000000
END:STANDARD
END:VTIMEZONE
BEGIN:VEVENT
DTSTART;TZID=UTC:20251119T180000
DTEND;TZID=UTC:20251119T200000
DTSTAMP:20260424T001004
CREATED:20251114T153748Z
LAST-MODIFIED:20251114T153748Z
UID:11508-1763575200-1763582400@gspe.org
SUMMARY:Teaching\, Mentorship\, and Legacy - Cobb GSPE
DESCRIPTION:Our upcoming meeting will be on Wednesday\, November 19th. Our guest speaker will be Mr. Chad Reineke\, Registered Architect\, & Professor with MD+A. \nHis presentation is titled “Teaching\, Mentorship\, and Legacy”. \nWe will have a social from 6-7:00 PM and the presentation to start promptly at 7:00 PM. The meeting room will be in Q-204 inside Building Q adjacent to the Parking Deck located at 1100 South Marietta Parkway SE\, Marietta\, GA 30060. \nPDHs will be available for all those that need them. \nUpcoming Meetings dates: \nNovember 19\, 2025 \nDecember 17\, 2025 \nJanuary 21\, 2026
URL:https://gspe.org/event/teaching-mentorship-and-legacy-cobb-gspe/
LOCATION:Kennesaw State University
ATTACH;FMTTYPE=image/png:https://gspe.org/wp-content/uploads/2025/11/Crisp-Modern-Card-for-Engineers-Symposium-Facebook-Video.png
END:VEVENT
END:VCALENDAR