BEGIN:VCALENDAR
VERSION:2.0
PRODID:-//Georgia Society of Professional Engineers - ECPv6.15.20//NONSGML v1.0//EN
CALSCALE:GREGORIAN
METHOD:PUBLISH
X-WR-CALNAME:Georgia Society of Professional Engineers
X-ORIGINAL-URL:https://gspe.org
X-WR-CALDESC:Events for Georgia Society of Professional Engineers
REFRESH-INTERVAL;VALUE=DURATION:PT1H
X-Robots-Tag:noindex
X-PUBLISHED-TTL:PT1H
BEGIN:VTIMEZONE
TZID:America/New_York
BEGIN:DAYLIGHT
TZOFFSETFROM:-0500
TZOFFSETTO:-0400
TZNAME:EDT
DTSTART:20250309T070000
END:DAYLIGHT
BEGIN:STANDARD
TZOFFSETFROM:-0400
TZOFFSETTO:-0500
TZNAME:EST
DTSTART:20251102T060000
END:STANDARD
BEGIN:DAYLIGHT
TZOFFSETFROM:-0500
TZOFFSETTO:-0400
TZNAME:EDT
DTSTART:20260308T070000
END:DAYLIGHT
BEGIN:STANDARD
TZOFFSETFROM:-0400
TZOFFSETTO:-0500
TZNAME:EST
DTSTART:20261101T060000
END:STANDARD
BEGIN:DAYLIGHT
TZOFFSETFROM:-0500
TZOFFSETTO:-0400
TZNAME:EDT
DTSTART:20270314T070000
END:DAYLIGHT
BEGIN:STANDARD
TZOFFSETFROM:-0400
TZOFFSETTO:-0500
TZNAME:EST
DTSTART:20271107T060000
END:STANDARD
END:VTIMEZONE
BEGIN:VEVENT
DTSTART;TZID=America/New_York:20260113T173000
DTEND;TZID=America/New_York:20260113T190000
DTSTAMP:20260424T010938
CREATED:20260110T145117Z
LAST-MODIFIED:20260111T173815Z
UID:11599-1768325400-1768330800@gspe.org
SUMMARY:Northwest Georgia Chapter - Tax Law Changes for Professionals
DESCRIPTION:Northwest Georgia Chapter Meeting – Jan 13\nUnderstanding Upcoming Tax Law Changes for Professionals\nJoin the Northwest Georgia Chapter of GSPE for our first meeting of 2026 featuring Kirk Jarrett\, CPA/ABV\, CVA\, who will provide an informative session on upcoming Tax Law Changes for Professionals. \nWhether you’re an engineer running your own firm\, a consultant\, or just want to stay ahead of financial impacts in the new year\, this session will highlight key updates\, planning considerations\, and how these changes may affect licensed professionals. \nDetails:\n📅 Tuesday\, January 13\, 2026\n🕠 5:30 PM – Meal & Social\n🕕 6:00 PM – Program Begins\n📍 Sam’s Burger Deli\n3268 Martha Berry Highway\, Rome\, GA 30165\n🎓 1 PDH credit will be awarded \nNo RSVP is required—just come ready to learn and connect with fellow engineers over a casual dinner. \nOpen to PEs\, engineering students\, and guests. \nQuestions? Contact:\n📧 Jeff Hampton\, P.E. – jeff@harcrowelectric.com
URL:https://gspe.org/event/northwest-georgia-chapter-tax-law-changes-for-professionals/
LOCATION:Sam’s Burger Deli\, 3268 Martha Berry Highway\, Rome\, GA\, 30165\, United States
END:VEVENT
END:VCALENDAR