BEGIN:VCALENDAR
VERSION:2.0
PRODID:-//Georgia Society of Professional Engineers - ECPv6.15.20//NONSGML v1.0//EN
CALSCALE:GREGORIAN
METHOD:PUBLISH
X-ORIGINAL-URL:https://gspe.org
X-WR-CALDESC:Events for Georgia Society of Professional Engineers
REFRESH-INTERVAL;VALUE=DURATION:PT1H
X-Robots-Tag:noindex
X-PUBLISHED-TTL:PT1H
BEGIN:VTIMEZONE
TZID:UTC
BEGIN:STANDARD
TZOFFSETFROM:+0000
TZOFFSETTO:+0000
TZNAME:UTC
DTSTART:20240101T000000
END:STANDARD
END:VTIMEZONE
BEGIN:VEVENT
DTSTART;TZID=UTC:20260413T180000
DTEND;TZID=UTC:20260413T200000
DTSTAMP:20260423T182449
CREATED:20260326T011941Z
LAST-MODIFIED:20260401T145342Z
UID:11686-1776103200-1776110400@gspe.org
SUMMARY:Atlanta Metro Chapter - The Fundamentals of Data Centers
DESCRIPTION:Monday\, April 13\, 2026 | 6:00 PM | Piccadilly Cafeteria\, Tucker\, GA \nData centers power nearly everything we do — but most people have no idea what happens inside one. This month\, we’re pulling back the curtain. \nJoin the GSPE Atlanta Metro Chapter on Monday\, April 13th for our free monthly meeting\, featuring Farris Shaheen\, PE\, Director for Strategic Mission Critical\, presenting on The Fundamentals of Data Centers. \nShaheen will walk through what data centers actually do\, the equipment inside them\, why they’re built where they are\, and what it takes to keep them running. He’ll also share his perspective on why data centers are dominating the news right now — and what challenges lie ahead as AI-driven demand reshapes the industry. \nFrom the server rooms of the 1990s to today’s AI-centric hyperscale facilities\, data centers have become some of the most consequential infrastructure on the planet. They use power on par with large factories\, require massive buildings and specialized systems\, and employ surprisingly few people — yet they quietly underpin global banking\, healthcare\, communications\, and more. This presentation is your chance to understand what’s really going on inside them. \nSpeaker: Farris Shaheen\, PE brings 39 years of electrical engineering experience\, with the past 15 focused exclusively on mission critical facility design and construction. He is a registered PE in Georgia and 29 additional states. \nThis presentation qualifies for 1 PDH. \n📅 Monday\, April 13\, 2026 🕕 Networking at 6:00 PM | Presentation at 7:00 PM 📍 Piccadilly Cafeteria\, 2000 Crescent Centre Blvd.\, Tucker\, GA 30084 💲 Free (Dinner on your own) — open to engineers\, students\, and the public \nCan’t make it in person? The presentation will be archived for free viewing at youtube.com/GSPEng.
URL:https://gspe.org/event/atlanta-metro-chapter-data-centers-event/
LOCATION:Piccadilly Cafeteria\, Tucker\, 2000 Crescent Centre Blvd\, Tucker\, GA\, 30084\, United States
CATEGORIES:Atlanta Metro
ATTACH;FMTTYPE=image/png:https://gspe.org/wp-content/uploads/2026/03/www.gspe_.org-5.png
END:VEVENT
BEGIN:VEVENT
DTSTART;TZID=UTC:20260209T180000
DTEND;TZID=UTC:20260209T200000
DTSTAMP:20260423T182449
CREATED:20260126T165512Z
LAST-MODIFIED:20260202T233508Z
UID:11634-1770660000-1770667200@gspe.org
SUMMARY:GSPE Atlanta Metro Practitioner Session with Damon Nix
DESCRIPTION:📅 Monday\, February 9\, 2026🕕 6:00–8:00 PM📍 Piccadilly Cafeteria\, Tucker\, GA🎟️ Free | 1 PDH Available \nJoin the Atlanta Metro Chapter of the Georgia Society of Professional Engineers (GSPE) for a practitioner-focused session featuring Damon Nix\, senior leader with the Georgia Manufacturing Extension Partnership (GaMEP) at Georgia Institute of Technology. \nThis session will draw on Damon’s extensive experience supporting manufacturers across Georgia\, with a focus on real-world challenges\, practical improvement efforts\, and lessons learned from working directly with industrial organizations. \nWhat to Expect\n\n\nPractical insights from the front lines of Georgia manufacturing \n\n\nDiscussion of improvement efforts related to operations\, safety\, energy\, and sustainability \n\n\nLessons learned from working with manufacturers of all sizes \n\n\nTime for questions and discussion \n\n\nAbout the Speaker\nDamon Nix brings more than 20 years of experience in industrial engineering\, manufacturing performance improvement\, and safety leadership. He currently serves as Group Manager for Energy & Sustainability Services and Manager of New Program Development at GaMEP. Throughout his career\, he has led high-impact programs designed to strengthen operations\, reduce risk\, and improve long-term competitiveness for manufacturers across the state. \nAbout the Meeting\nGSPE Atlanta Metro meetings are open to professional engineers\, aspiring PEs\, students\, and members of the public. Meetings begin with face-to-face networking at 6:00 PM\, followed by dinner and the presentation. This session qualifies for one Professional Development Hour (PDH).📺 The presentation will also be archived for later viewing on the GSPE YouTube channel.
URL:https://gspe.org/event/gspe-atlanta-metro-practitioner-session-with-damon-nix/
LOCATION:Piccadilly Cafeteria\, Tucker\, 2000 Crescent Centre Blvd\, Tucker\, GA\, 30084\, United States
CATEGORIES:Atlanta Metro
ATTACH;FMTTYPE=image/png:https://gspe.org/wp-content/uploads/2026/01/www.gspe_.org-3.png
END:VEVENT
BEGIN:VEVENT
DTSTART;TZID=UTC:20260112T180000
DTEND;TZID=UTC:20260112T200000
DTSTAMP:20260423T182449
CREATED:20260107T143323Z
LAST-MODIFIED:20260107T145600Z
UID:11594-1768240800-1768248000@gspe.org
SUMMARY:Big Problems\, Big Data\, & Responsible AI in Engineering Practice - Atlanta Metro
DESCRIPTION:Atlanta Metro Chapter MeetingGeorgia Society of Professional Engineers (GSPE) \nDate: Monday\, January 12\, 2026Time: 6:00 PM – Networking\,  7:00 PM – Presentation \nLocation:Piccadilly Cafeteria2000 Crescent Centre Blvd.Tucker\, GA 30084 \nCost: Free to attend(Food and beverages are available for individual purchase.) \nPDH: 1 Professional Development Hour (PDH) \n\nPresentation Overview\nEngineering problems are growing in scale and complexity\, driven by large datasets\, advanced computational tools\, and the increasing use of artificial intelligence. Engineers are being asked to apply data-driven systems responsibly while maintaining sound professional judgment. \nThis presentation will explore how big data\, quantitative models\, and AI can be used as engineering assistants—supporting routine and repetitive tasks—so engineers can focus on higher-level problem formulation\, risk assessment\, and decision-making. The discussion emphasizes responsible\, real-world application of AI in professional engineering practice. \n\nSpeaker\nSuresh MarruDirector\, Georgia Tech Center for Artificial Intelligence in Science and Engineering (ARTISAN)Research Professor\, Georgia Tech College of Computing \nDr. Marru is a senior research leader in data-driven scientific computing\, distributed systems\, and cyberinfrastructure\, with more than two decades of experience designing and operating large-scale computational platforms used across academia\, government\, and industry. \n\nWho Should Attend\n\n\nLicensed Professional Engineers \n\n\nEngineers pursuing licensure \n\n\nEngineering students \n\n\nPublic decision makers \n\n\nMembers of the public interested in technology and public welfare \n\n\n\nAdditional Information\n\n\nGSPE Atlanta Metro Chapter meetings are held on the second Monday of each month\, September through June. \n\n\nThis presentation will be archived for later viewing on the GSPE YouTube channel: www.youtube.com/GSPEng \n\n\nIn-person attendance and archived viewing are free.
URL:https://gspe.org/event/big-problems-big-data-responsible-ai-in-engineering-practice-atlanta-metro/
LOCATION:Piccadilly Cafeteria\, Tucker\, 2000 Crescent Centre Blvd\, Tucker\, GA\, 30084\, United States
CATEGORIES:Atlanta Metro
ATTACH;FMTTYPE=image/png:https://gspe.org/wp-content/uploads/2026/01/Atlanta-Metro-January.png
END:VEVENT
BEGIN:VEVENT
DTSTART;TZID=UTC:20251110T180000
DTEND;TZID=UTC:20251110T200000
DTSTAMP:20260423T182449
CREATED:20251030T172637Z
LAST-MODIFIED:20251110T153442Z
UID:11474-1762797600-1762804800@gspe.org
SUMMARY:Engineering Continuous Improvement—Beyond Manufacturing - Metro Atlanta Monthly Meeting
DESCRIPTION:The Atlanta Metro Chapter of the Georgia Society of Professional Engineers (GSPE) invites engineering professionals\, students\, and the public to attend its free monthly meeting on Monday\, November 10\, 2025 at the Piccadilly Cafeteria\, Tucker. \nThe featured topic\, “Engineering Continuous Improvement Programs—Not Just Manufacturing\,” will be presented by J. Michael Gerster\, a seasoned manufacturing executive and Lean consultant at NoMu Lean Manufacturing Consulting. \nAbout the Presentation\nWhat if innovation wasn’t just about new products—but about improving the way we work every single day?Drawing from his decades of experience in global manufacturing\, J. Michael Gerster will explore the concept of Continuous Improvement (CI) as a transformative strategy that applies far beyond factory floors. Using real-world manufacturing scenarios\, Gerster will demonstrate how engineers can lead CI initiatives that improve efficiency\, eliminate waste\, boost on-time performance\, and drive measurable gains across sectors—from logistics to healthcare to public infrastructure. \nAttendees will gain insights into: \n\nTurning daily operational frustrations into opportunities\nUnlocking hidden cash flow and reducing lead times\nApplying shop-floor CI principles to engineering workflows and services\n\nThis engaging discussion will challenge the idea that innovation is only about flashy new gadgets—highlighting instead the powerful impact engineers can have by optimizing systems\, processes\, and teams through disciplined improvement strategies. \nAbout the Speaker\nJ. Michael Gerster brings over 30 years of international experience transforming traditional operations into high-performing enterprises. Originally from Germany\, Gerster has worked across Europe and the U.S. leading both high-volume and high-variation manufacturing environments. He now advises manufacturers on driving quality\, throughput\, and delivery gains through Lean thinking and process innovation. His career journey—spanning executive roles and hands-on consulting—makes him a compelling voice on how engineering leadership can make a lasting impact. \nWho Should Attend?\n\nLicensed Professional Engineers (PEs)\nAspiring PEs and engineering students\nTechnology professionals and public decision-makers\nAnyone curious about engineering’s role in organizational improvement\n\nThis program qualifies for one Professional Development Hour (PDH) and is free of charge. In-person attendees can network\, grab dinner (on your own)\, and participate in a live Q&A. The session will also be archived for later viewing on the GSPE YouTube Channel.\n\nMore Info:🔗 GSPE Atlanta Metro Chapter📧 Contact: \n\n\nJesus Sandoval\, P.E. – jesussandoval@comcast.net \n\n\nJim McGarrah\, P.E. – jmcgarrah@bellsouth.net
URL:https://gspe.org/event/engineering-continuous-improvement-beyond-manufacturing-metro-atlanta-monthly-meeting/
LOCATION:Piccadilly Cafeteria\, Tucker\, 2000 Crescent Centre Blvd\, Tucker\, GA\, 30084\, United States
CATEGORIES:Atlanta Metro
ATTACH;FMTTYPE=image/png:https://gspe.org/wp-content/uploads/2025/10/Engineering-Continuous-Improvement-Programs—Not-Just-Manufacturing.png
END:VEVENT
END:VCALENDAR