BEGIN:VCALENDAR
VERSION:2.0
PRODID:-//Georgia Society of Professional Engineers - ECPv6.15.20//NONSGML v1.0//EN
CALSCALE:GREGORIAN
METHOD:PUBLISH
X-ORIGINAL-URL:https://gspe.org
X-WR-CALDESC:Events for Georgia Society of Professional Engineers
REFRESH-INTERVAL;VALUE=DURATION:PT1H
X-Robots-Tag:noindex
X-PUBLISHED-TTL:PT1H
BEGIN:VTIMEZONE
TZID:UTC
BEGIN:STANDARD
TZOFFSETFROM:+0000
TZOFFSETTO:+0000
TZNAME:UTC
DTSTART:20250101T000000
END:STANDARD
END:VTIMEZONE
BEGIN:VEVENT
DTSTART;TZID=UTC:20260209T180000
DTEND;TZID=UTC:20260209T200000
DTSTAMP:20260423T195218
CREATED:20260126T165512Z
LAST-MODIFIED:20260202T233508Z
UID:11634-1770660000-1770667200@gspe.org
SUMMARY:GSPE Atlanta Metro Practitioner Session with Damon Nix
DESCRIPTION:📅 Monday\, February 9\, 2026🕕 6:00–8:00 PM📍 Piccadilly Cafeteria\, Tucker\, GA🎟️ Free | 1 PDH Available \nJoin the Atlanta Metro Chapter of the Georgia Society of Professional Engineers (GSPE) for a practitioner-focused session featuring Damon Nix\, senior leader with the Georgia Manufacturing Extension Partnership (GaMEP) at Georgia Institute of Technology. \nThis session will draw on Damon’s extensive experience supporting manufacturers across Georgia\, with a focus on real-world challenges\, practical improvement efforts\, and lessons learned from working directly with industrial organizations. \nWhat to Expect\n\n\nPractical insights from the front lines of Georgia manufacturing \n\n\nDiscussion of improvement efforts related to operations\, safety\, energy\, and sustainability \n\n\nLessons learned from working with manufacturers of all sizes \n\n\nTime for questions and discussion \n\n\nAbout the Speaker\nDamon Nix brings more than 20 years of experience in industrial engineering\, manufacturing performance improvement\, and safety leadership. He currently serves as Group Manager for Energy & Sustainability Services and Manager of New Program Development at GaMEP. Throughout his career\, he has led high-impact programs designed to strengthen operations\, reduce risk\, and improve long-term competitiveness for manufacturers across the state. \nAbout the Meeting\nGSPE Atlanta Metro meetings are open to professional engineers\, aspiring PEs\, students\, and members of the public. Meetings begin with face-to-face networking at 6:00 PM\, followed by dinner and the presentation. This session qualifies for one Professional Development Hour (PDH).📺 The presentation will also be archived for later viewing on the GSPE YouTube channel.
URL:https://gspe.org/event/gspe-atlanta-metro-practitioner-session-with-damon-nix/
LOCATION:Piccadilly Cafeteria\, Tucker\, 2000 Crescent Centre Blvd\, Tucker\, GA\, 30084\, United States
CATEGORIES:Atlanta Metro
ATTACH;FMTTYPE=image/png:https://gspe.org/wp-content/uploads/2026/01/www.gspe_.org-3.png
END:VEVENT
BEGIN:VEVENT
DTSTART;TZID=UTC:20260210T173000
DTEND;TZID=UTC:20260210T193000
DTSTAMP:20260423T195218
CREATED:20260202T233302Z
LAST-MODIFIED:20260202T233302Z
UID:11646-1770744600-1770751800@gspe.org
SUMMARY:Northwest GA Chapter Meeting: Utility-Scale STATCOM Implementation at Southern Company
DESCRIPTION:Join us for our February chapter meeting featuring Philip Cheek\, P.E.\, P&C Field Services Senior Engineer at Georgia Power Company\,\nwho will present on the implementation of Southern Company’s first utility-scale STATCOM. This session will explore the engineering considerations\, challenges\, and real-world application of this major infrastructure project. \nDate: Tuesday\, February 10\, 2026Schedule:• 5:30 PM – Meal & Social• 6:00 PM – Program \nLocation:Sam’s Burger Deli3268 Martha Berry HighwayRome\, GA 30161 \nSpeaker:Philip Cheek\, P.E. \nProfessional Development Hours (PDH):PDH will be awarded.
URL:https://gspe.org/event/northwest-ga-chapter-meeting-utility-scale-statcom-implementation-at-southern-company/
LOCATION:Sam’s Burger Deli\, 3268 Martha Berry Highway\, Rome\, GA\, 30165\, United States
ATTACH;FMTTYPE=image/png:https://gspe.org/wp-content/uploads/2026/02/www.gspe_.org-2.png
END:VEVENT
BEGIN:VEVENT
DTSTART;TZID=UTC:20260211T113000
DTEND;TZID=UTC:20260211T123000
DTSTAMP:20260423T195218
CREATED:20260124T024447Z
LAST-MODIFIED:20260124T024514Z
UID:11624-1770809400-1770813000@gspe.org
SUMMARY:GSPE Statewide Board Meeting
DESCRIPTION:Meet the 2026 Board \nGSPE members are invited to attend our upcoming Statewide Board Meeting\, where you’ll have the opportunity to meet the 2026 GSPE Board of Directors and hear updates on the work of the Society. \nBoard meetings provide insight into GSPE’s priorities\, programs\, and statewide initiatives. Members are welcome to attend as observers to stay informed\, better understand how GSPE operates\, and remain engaged with what’s happening across the organization. \nMeeting Details\nWhenWednesday\, February 1111:30 AM – 12:30 PM \nWhereZoomMembers should check their email from amanda@gspe.org for the Zoom registration link. \nRSVPZoom registration is required. \nWhile discussion and voting are reserved for Board members\, all GSPE members are encouraged to attend and listen in. This is a great opportunity for members who are curious about GSPE leadership\, governance\, or future involvement at the state level.
URL:https://gspe.org/event/gspe-statewide-board-meeting/
ATTACH;FMTTYPE=image/png:https://gspe.org/wp-content/uploads/2026/01/gspe-board-meeting.png
END:VEVENT
BEGIN:VEVENT
DTSTART;TZID=UTC:20260228T103000
DTEND;TZID=UTC:20260228T150000
DTSTAMP:20260423T195218
CREATED:20260126T171640Z
LAST-MODIFIED:20260204T211210Z
UID:11636-1772274600-1772290800@gspe.org
SUMMARY:GSPE at the Career Explosion for the 100 Black Men of North Metro Atlanta
DESCRIPTION:GSPE to Exhibit at Engineers Week Career Explosion Event\nThe Georgia Society of Professional Engineers (GSPE) will be exhibiting at the Career Explosion event hosted by 100 Black Men of North Metro Atlanta in celebration of Engineers Week. \nThe event will take place on Saturday\, February 28\, 2026\, from 10:30 a.m. to 3:00 p.m. at Gwinnett Technical College\, located at 5150 Sugarloaf Parkway in Lawrenceville. \nDesigned for middle and high school students interested in engineering\, the Career Explosion event focuses on mentorship\, career awareness\, and exposure to engineering pathways. GSPE’s presence supports its ongoing commitment to promoting the engineering profession and encouraging the next generation of engineers through outreach and education. \nThis event is part of the broader mission of the 100 Black Men of North Metro Atlanta to provide mentorship\, education\, and economic empowerment opportunities within the community. \nEvent Details \nHost Organization: 100 Black Men of North Metro Atlanta\, Inc. \nDate: Saturday\, February 28\, 2026 \nTime: 10:30 a.m. – 3:00 p.m. \nLocation: Gwinnett Technical College\, 5150 Sugarloaf Parkway\, Lawrenceville\, GA 30043 \nAudience: Middle and High School Students \nPurpose: Engineers Week Career Exploration and Mentorship
URL:https://gspe.org/event/gspe-at-the-career-explosion-for-the-100-black-men-of-north-metro-atlanta/
LOCATION:Gwinnett Technical College\, 5150 Sugarloaf Parkway\, Lawrenceville\, GA 30043\, 5150 Sugarloaf Parkway\, Lawrenceville\, GA\, 30043\, United States
ATTACH;FMTTYPE=image/png:https://gspe.org/wp-content/uploads/2026/01/www.gspe_.org-4.png
END:VEVENT
BEGIN:VEVENT
DTSTART;TZID=UTC:20260306T180000
DTEND;TZID=UTC:20260306T220000
DTSTAMP:20260423T195218
CREATED:20260126T172218Z
LAST-MODIFIED:20260126T172218Z
UID:11641-1772820000-1772834400@gspe.org
SUMMARY:2026 Georgia Engineering Awards
DESCRIPTION:Featuring the GSPE Engineer of the Year Awards \n📅 Friday\, March 6\, 2026⏰ 6:00 p.m. – 10:00 p.m. (ET)👔 Black-Tie Event \nExperience an elegant evening of ingenuity and innovation at the 2026 Georgia Engineering Awards\, where the Georgia Society of Professional Engineers (GSPE) will proudly present the Engineer of the Year Awards—the Society’s highest honors recognizing exceptional professional engineers across Georgia. \nThis prestigious black-tie gala brings together Georgia’s most accomplished engineers\, industry leaders\, and distinguished guests to celebrate excellence\, leadership\, and the profound impact engineering has on the state’s growth and infrastructure. \n\nHonoring Engineering Excellence\nAt the heart of the evening is the presentation of the GSPE Engineer of the Year Awards\, which recognize outstanding engineers\, projects\, organizations\, and students whose work exemplifies technical excellence\, leadership\, service\, and innovation. These awards highlight the individuals and teams shaping Georgia’s engineering future and advancing the profession. \n2026 GSPE Award Recipients\nOne of this year’s Engineer of the Year recipients will also be recognized as the 2026 GSPE Engineer of the Year – Overall\, to be announced during the awards gala. \nLifetime Achievement Award\nWilliam Womack\, P.E. \nEngineer of the Year\nRobert H. Barnes\, P.E.\, P.G.\, M.ASCE\nChristopher E. Brazell\, P.E.\, PLS\nCameron Coates\, PhD\, P.E.\nSuzanne V. Cooler\, P.E.\, CFM\, MPA\, M.ASCE\nGuoming Lin\, PhD\, P.E.\, F.ASCE\nSuleman Rana\, MS\, P.E. \nStudent Award Winners\nAbriana Nyante\, S.M.\, A.S.C.E.\nAnastasia Morris \nEngineering Employer Award Winners\nChatham County\, Department of Engineering\nColeman Company\, Inc.\nKimley-Horn \nEngineering Organization Volunteer of the Year\nLauren Kilgore \n\nWhy Attend the Georgia Engineering Awards?\nCelebrate ExcellenceHonor Georgia’s top engineers and transformative projects that set new standards for the profession and contribute to the state’s continued success. \nUnparalleled NetworkingConnect with industry leaders\, elected officials\, public-sector executives\, and key decision-makers from across Georgia in a refined and celebratory setting. \nA Black-Tie Gala ExperienceEnjoy an unforgettable evening featuring a formal dinner\, live music\, and a post-awards reception designed to celebrate achievements in style. \nInspiration at Every TurnBe inspired by award recipients whose dedication\, innovation\, and leadership demonstrate the powerful role engineers play in shaping communities and improving lives. \n\nEvent Schedule\n6:00 – 7:00 p.m. | Reception & VIP ReceptionBegin the evening with cocktails and networking among Georgia’s engineering and civic leaders. VIP guests and top sponsors enjoy access to an exclusive private reception. \n7:00 – 9:00 p.m. | Georgia Engineering Awards & DinnerThe centerpiece of the evening\, featuring dinner service and the presentation of the GSPE Engineer of the Year Awards and other distinguished honors. \n9:00 – 10:00 p.m. | Post-Event ReceptionCelebrate the night’s honorees with music\, conversation\, and a festive afterparty as we toast to the future of engineering in Georgia.
URL:https://gspe.org/event/2026-georgia-engineering-awards/
END:VEVENT
BEGIN:VEVENT
DTSTART;TZID=UTC:20260309T080000
DTEND;TZID=UTC:20260309T150000
DTSTAMP:20260423T195218
CREATED:20260126T171839Z
LAST-MODIFIED:20260126T171839Z
UID:11639-1773043200-1773068400@gspe.org
SUMMARY:Georgia MATHCOUNTS Foundation State Competition – March 9
DESCRIPTION:The Georgia MATHCOUNTS Foundation will host its State Competition on March 9\, bringing together middle school students from across Georgia to showcase their problem-solving skills\, teamwork\, and passion for mathematics. \nThe MATHCOUNTS State Competition represents the culmination of months of preparation by students and educators and serves as a key step in advancing math confidence and critical thinking among Georgia’s future engineers\, scientists\, and innovators. Top-performing teams and individuals will earn the opportunity to advance to the national level. \nThe Georgia MATHCOUNTS Foundation relies on the support of volunteers to ensure a successful and inspiring experience for students. Volunteers are needed to assist with roles such as scoring\, monitoring rounds\, and supporting event logistics. \nVolunteer Call to ActionIf you are interested in volunteering\, please contact:📧 bettyjean@georgiamathcounts.org \nYour time and expertise help make this event possible and directly support math education and STEM career pathways across Georgia.
URL:https://gspe.org/event/georgia-mathcounts-foundation-state-competition-march-9/
END:VEVENT
BEGIN:VEVENT
DTSTART;TZID=UTC:20260408T173000
DTEND;TZID=UTC:20260408T193000
DTSTAMP:20260423T195218
CREATED:20260311T182727Z
LAST-MODIFIED:20260406T192915Z
UID:11668-1775669400-1775676600@gspe.org
SUMMARY:GSPE Bowling Night
DESCRIPTION:GSPE Bowling Night\nJoin the Georgia Society of Professional Engineers for a relaxed evening of bowling\, networking\, and friendly competition at Midtown Bowl. \nThis casual social event is a great opportunity to connect with fellow engineers\, meet new members of the GSPE community\, and enjoy a fun night out. \nWhether you’re an experienced bowler or haven’t bowled in years\, all skill levels are welcome. \nThank you to our Sponsor: Terracon! \n \n\nMini Bowling Tournament\nFeeling competitive? Form a team of three and bowl your best game during the evening. The team with the highest combined score will earn bragging rights and a small prize. \nParticipation is completely optional—come to compete or just bowl and socialize. \nEvent Details\nDate: Wednesday\, April 8Time: 5:30 PM – 7:30 PMLocation: Midtown Bowl \nRegistration – Click Here\nGSPE Members: $10Guests / Non-Members: $20 \nYour registration includes: \n\nBowling and lane access during the event\nEntry into the optional mini bowling tournament\nLight snacks\nNetworking with fellow engineers\n\nBowling shoes are required and may be rented at the venue for $6 if needed.
URL:https://gspe.org/event/11668/
LOCATION:Midtown Bowl\, 1936 Piedmont Cir NE\, Atlanta\, GA\, 30324\, United States
ATTACH;FMTTYPE=image/png:https://gspe.org/wp-content/uploads/2026/03/Blue-Bowling-Invitation.png
END:VEVENT
BEGIN:VEVENT
DTSTART;TZID=UTC:20260413T180000
DTEND;TZID=UTC:20260413T200000
DTSTAMP:20260423T195218
CREATED:20260326T011941Z
LAST-MODIFIED:20260401T145342Z
UID:11686-1776103200-1776110400@gspe.org
SUMMARY:Atlanta Metro Chapter - The Fundamentals of Data Centers
DESCRIPTION:Monday\, April 13\, 2026 | 6:00 PM | Piccadilly Cafeteria\, Tucker\, GA \nData centers power nearly everything we do — but most people have no idea what happens inside one. This month\, we’re pulling back the curtain. \nJoin the GSPE Atlanta Metro Chapter on Monday\, April 13th for our free monthly meeting\, featuring Farris Shaheen\, PE\, Director for Strategic Mission Critical\, presenting on The Fundamentals of Data Centers. \nShaheen will walk through what data centers actually do\, the equipment inside them\, why they’re built where they are\, and what it takes to keep them running. He’ll also share his perspective on why data centers are dominating the news right now — and what challenges lie ahead as AI-driven demand reshapes the industry. \nFrom the server rooms of the 1990s to today’s AI-centric hyperscale facilities\, data centers have become some of the most consequential infrastructure on the planet. They use power on par with large factories\, require massive buildings and specialized systems\, and employ surprisingly few people — yet they quietly underpin global banking\, healthcare\, communications\, and more. This presentation is your chance to understand what’s really going on inside them. \nSpeaker: Farris Shaheen\, PE brings 39 years of electrical engineering experience\, with the past 15 focused exclusively on mission critical facility design and construction. He is a registered PE in Georgia and 29 additional states. \nThis presentation qualifies for 1 PDH. \n📅 Monday\, April 13\, 2026 🕕 Networking at 6:00 PM | Presentation at 7:00 PM 📍 Piccadilly Cafeteria\, 2000 Crescent Centre Blvd.\, Tucker\, GA 30084 💲 Free (Dinner on your own) — open to engineers\, students\, and the public \nCan’t make it in person? The presentation will be archived for free viewing at youtube.com/GSPEng.
URL:https://gspe.org/event/atlanta-metro-chapter-data-centers-event/
LOCATION:Piccadilly Cafeteria\, Tucker\, 2000 Crescent Centre Blvd\, Tucker\, GA\, 30084\, United States
CATEGORIES:Atlanta Metro
ATTACH;FMTTYPE=image/png:https://gspe.org/wp-content/uploads/2026/03/www.gspe_.org-5.png
END:VEVENT
BEGIN:VEVENT
DTSTART;TZID=UTC:20260414T173000
DTEND;TZID=UTC:20260414T193000
DTSTAMP:20260423T195218
CREATED:20260403T181459Z
LAST-MODIFIED:20260403T181459Z
UID:11692-1776187800-1776195000@gspe.org
SUMMARY:Powering Georgia’s Future: Electric Load & Generation Growth
DESCRIPTION:Join GSPE for an engaging presentation with Wilson Mallard\, Director of Renewable Development at Georgia Power\, as he explores the rapid growth in electric demand across Georgia. Driven by data centers\, AI infrastructure\, and population growth\, the state is experiencing unprecedented pressure on its energy systems—and planning is evolving quickly to keep pace. \nMallard will provide insight into how Georgia Power is approaching generation expansion\, including the role of renewable energy\, grid reliability\, and long-term resource planning. Attendees will gain a clearer understanding of what’s driving demand\, how energy portfolios are shifting\, and what it means for engineers\, businesses\, and communities across the state. \nDate: Tuesday\, April 14\, 2026Time: 5:30 PM – Meal Time & Social | 6:00 PM – ProgramLocation: Bella Roma Grill (New Venue)770 Braves Blvd NE\, Rome\, GA 30161 \nDon’t miss this opportunity to hear directly from a leader shaping Georgia’s energy future.
URL:https://gspe.org/event/powering-georgias-future-electric-load-generation-growth/
LOCATION:Bella Roma Grill\, 770 Braves BLVD\, NE\, Rome\, Georgia\, 30161\, United States
ATTACH;FMTTYPE=image/png:https://gspe.org/wp-content/uploads/2026/04/NWGA.png
END:VEVENT
END:VCALENDAR