BEGIN:VCALENDAR
VERSION:2.0
PRODID:-//Georgia Society of Professional Engineers - ECPv6.15.20//NONSGML v1.0//EN
CALSCALE:GREGORIAN
METHOD:PUBLISH
X-WR-CALNAME:Georgia Society of Professional Engineers
X-ORIGINAL-URL:https://gspe.org
X-WR-CALDESC:Events for Georgia Society of Professional Engineers
REFRESH-INTERVAL;VALUE=DURATION:PT1H
X-Robots-Tag:noindex
X-PUBLISHED-TTL:PT1H
BEGIN:VTIMEZONE
TZID:UTC
BEGIN:STANDARD
TZOFFSETFROM:+0000
TZOFFSETTO:+0000
TZNAME:UTC
DTSTART:20230101T000000
END:STANDARD
END:VTIMEZONE
BEGIN:VEVENT
DTSTART;TZID=UTC:20241014T180000
DTEND;TZID=UTC:20241014T200000
DTSTAMP:20260424T102427
CREATED:20241010T133549Z
LAST-MODIFIED:20241010T133549Z
UID:8405-1728928800-1728936000@gspe.org
SUMMARY:METRO ATLANTA: Real Bad Day- What’s the Plan? Tabletop Exercise Workshop
DESCRIPTION:Real Bad Day- What’s the Plan? \nTabletop Exercise Workshop \nMonthly Meeting of the Metro Atlanta Chapter of Georgia Society of Professional Engineers \n  \n\n\n\n \nMatt Spencer\, CSP\, SHRM-CP\, REM\n\n\n\nAbstract: \n\nFree Monthly dinner meeting of Georgia Society of Professional Engineers\n6:00 p.m.\, Monday\, October 14\, 2024 at the Piccadilly Cafeteria\, Tucker.\nPresentation Topic: Tabletop Exercises Workshop\, Planning Before Catastrophes & Good Events\nSpeaker: Matt Spencer\, CSP\, SHRM-CP\, REM\, Vice President HR & Safety Programs\,S. Poultry & Egg Association\nBenefiting licensed engineers\, aspiring PE\, engineering students & others interested in learning about technology.\n\n  \n\n\n\n“… tabletop exercises are like a flu shot: The vaccine won’t prevent the illness 100% … but… it will greatly reduce the severity.”  \nRobert Burton CEO\, \nPreparedEx\, Newport\, RI\n\n\n\nAtlanta\, Georgia (October 7\, 2024)  –  The Uvalde\, Texas school shooting went badly. The Barrow County crisis management was professional. The officials responding to the recent Rockdale County fire   – managing well. Undoubtedly\, the difference is planning. Tabletop exercises before an event is a very useful planning tool. In the simplest form of a tabletop exercise participating team is in a low stress environment without distractions and is presented realistic situation scenarios. They develop and document response procedures; when who does what and communicates with who. The inclusion of representatives of involved departments and agencies\, such as marketing\, insurance\, attorneys\, unions\, and emergency responders\, depends on the scenario. Some scenarios could be as ordinary as opening a new store\, shutdowns\, a black Friday sale\, layoffs\, or a big corporate party. The most thought of scenarios involve risks to business continuity\, weather preparations\, defective product responses and recalls\, and public safety. Engineers have a moral and legal obligation to the public welfare\, health and safety. Engineers may at some point be called upon to participate in or lead tabletop exercises. Even if not taught in their formal education\, they should be trained for this. \nMatt Spencer\, CSP\, SHRM-CP\, REM\, Vice President HR & Safety Programs\, U.S. Poultry & Egg Association will address the 6:00 PM\, Monday\, October 14th monthly dinner meeting of the Georgia Society of Professional Engineers at Piccadilly Cafeteria\, Northlake\, (2000 Crescent Centre Blvd\, Tucker\, GA 30084 ). He will lead a workshop on Tabletop Exercises Workshop\, Planning Before Catastrophes & Good Events. He will discuss the why and when to have a tabletop exercise rather than a typical meeting\, how the formats differ\, and the “dos and don’ts” of participating in and leading tabletop exercises. The program will include small group role playing for scenarios that engineers and managers realistically could encounter (emergency response planning\, product defect\, project setback\, new facilities or production line for example). All types of managers\, currently registered Professional Engineers\, those engineers aspiring to become PEs\, and others engaged in engineering and business would benefit from the presentation. Members of the general public are also welcome to learn about technology\, engineering\, and public welfare. There is no charge for the meeting or presentation. \nMatt Spencer\, CSP\, SHRM-CP\, REM\, has been the HR and Safety Programs Vice President for the U.S. Poultry & Egg Association since 2017. He is responsible for the strategic management of certain USPOULTRY technical services provided to or on behalf of association members\, including worker safety\, human resources\, fleet safety\, employment law programs\, and more. Mr. Spencer provides technical and logistical support to the Joint Poultry Industry Safety & Health\, Human Resources\, and Duck Councils. He represents USPOULTRY on various outside committees or boards\, such as the NFPA 55 Industrial and Medical Gases\, 150 Animal Housing\, and 660 Agricultural Dust technical committees\, ANSI Z490.1 and ANSI Z16 advisory committees\, the Agricultural Safety and Health Council of America (ASHCA) board of directors\, and the NIOSH National Occupational Research Agenda Councils for Manufacturing and Agriculture\, Forestry\, and Fishing. Mr. Spencer assists in developing program areas related to educational programs for the International Production & Processing Expo (IPPE) and provides other IPPE support. He prepares comments and articles for risk management positions of the Association. Previously\, Mr. Spencer held various positions in the Environmental\, Health\, and Safety and HR fields in different industries for over eighteen years. Matthew holds a Bachelor of Science degree in Safety and Health Engineering from the University of Columbia Southern. Matthew is a Certified Safety Professional (CSP) and Associate Safety Professional (ASP) from the Board of Certified Safety Professionals. Mr. Spencer is  a Certified Professional of the Society of Human Resource Managers (SHRM-CP) and has also obtained his Registered Environmental Manager (REM) Designation from the National Register for Environmental Professionals. Matt Resides in the Atlanta area. \nAbout the Meeting \nThe GSPE Atlanta Metro Chapter meetings are open to engineering professionals\, students\, and other interested members of the public. The meetings take place on the second Monday of each month\, September through June. The meetings start with F2F networking at 6:00 pm\, followed by dinner and the speaker at 7:00. The presentation will be archived for later viewing on the GSPE video channel\, www.youtube.com/GSPEng. Many engineers enjoy the presentations as well as earn a required Professional Development Hour. Currently registered professional engineers\, those engineers aspiring to become PEs\, students\, and others engaged in engineering would benefit from the presentation. Anyone in the field of engineering and members of the general public are welcome to pose questions and to learn about engineering and public welfare. \nBoth F2F and later archived viewing (www.youtube.com/GSPEng) .are FREE.
URL:https://gspe.org/event/metro-atlanta-real-bad-day-whats-the-plan-tabletop-exercise-workshop/
LOCATION:Piccadilly Cafeteria\, Tucker\, 2000 Crescent Centre Blvd\, Tucker\, GA\, 30084\, United States
END:VEVENT
BEGIN:VEVENT
DTSTART;TZID=UTC:20241008T160000
DTEND;TZID=UTC:20241008T180000
DTSTAMP:20260424T102427
CREATED:20241010T134143Z
LAST-MODIFIED:20241010T134143Z
UID:8410-1728403200-1728410400@gspe.org
SUMMARY:Northwest Georgia Chapter Georgia Society of Professional Engineers
DESCRIPTION:October Meeting featuring\nNat Massey\, Senior Manager of F & P Manufacturing\, will provide a presentation and tour of F & P Georgia. \nWhen\nTuesday\, October 8\, 2024\n4:00 PM Tour and Presentation\nMeal at Sam’s Burger Deli to follow tour \nWhere\nF & P Georgia\n88 Enterprise Drive\nRome\, GA 30161\nPDH will be awarded. \n  \nLearn More: NWGA GSPE Newsletter\, October 2024
URL:https://gspe.org/event/northwest-georgia-chapter-georgia-society-of-professional-engineers/
LOCATION:GA
END:VEVENT
BEGIN:VEVENT
DTSTART;TZID=UTC:20241002T090000
DTEND;TZID=UTC:20241002T130000
DTSTAMP:20260424T102427
CREATED:20240830T203023Z
LAST-MODIFIED:20240907T010027Z
UID:8343-1727859600-1727874000@gspe.org
SUMMARY:Cobb Chapter - Plant Vogtle Tour - October 2\, 2024
DESCRIPTION:Join us for an exclusive tour of Plant Vogtle\, one of the nation’s leading nuclear power facilities. The event will kick off at 9:00 AM with an insightful presentation on the history\, operations\, and future of the plant. Following the presentation\, we’ll embark on a comprehensive 2-hour walking tour of the facility\, providing a behind-the-scenes look at the cutting-edge technology and safety protocols in place. \nThe tour will conclude around 1:00 PM\, after a lunch that allows for further discussion and networking. This is a unique opportunity to gain a deeper understanding of the energy sector and the role of nuclear power in our future. \nAgenda: \n\n9:00 AM – Welcome & Presentation\n10:00 AM – Walking Tour of Plant Vogtle\n12:00 PM – Lunch & Networking\n1:00 PM – Event Conclusion\n\nPre-registration and clearance is required by September 7. \nWe look forward to your participation in this informative and engaging event.
URL:https://gspe.org/event/cobb-chapter-plant-vogtle-tour-october-2-2024/
LOCATION:Plant Vogtle\, 7821 River Road\, Waynesboro\, Georgia\, 30830
ATTACH;FMTTYPE=image/png:https://gspe.org/wp-content/uploads/2024/08/plant-tour.png
END:VEVENT
BEGIN:VEVENT
DTSTART;TZID=UTC:20240919T163000
DTEND;TZID=UTC:20240919T183000
DTSTAMP:20260424T102427
CREATED:20240810T021617Z
LAST-MODIFIED:20240810T021617Z
UID:8245-1726763400-1726770600@gspe.org
SUMMARY:New PE Recognition Event
DESCRIPTION:Celebrate Georgia’s Newest Professional Engineers!\n\nBecoming a Professional Engineer is a heavy endeavor that deserves celebrating!\nWe hope you will join us for this celebration and networking event. \nSeptember 19\, 2024 | 4:30 PM – 6:30 PM\nASW Distillery at The Battery Atlanta\n900 Battery Ave SE Suite 1035\, Atlanta\, GA 30339 \nYour all-inclusive ticket includes tastings\, spirits\, mixed drinks\, and food. Guests Welcome.\nAttendees of the event will receive a behind-the-scenes tour of how ASW’s award-winning craft vodka and gin are distilled in a beautiful copper hybrid column/pot still. \n\n\n\n\nGo to registration\n\n\n\n\nPartnerships are available. Contact Amanda@GSPE.org or sign up online.
URL:https://gspe.org/event/new-pe-recognition-event/
LOCATION:ASW Distillery at The Battery Atlanta\, 900 Battery Ave SE Suite 1035\, Atlanta\, GA\, 30339\, United States
ATTACH;FMTTYPE=image/png:https://gspe.org/wp-content/uploads/2024/08/Grey-Geometric-Style-Alumni-Reunion-Invitation-Instagram-Post.png
END:VEVENT
BEGIN:VEVENT
DTSTART;TZID=UTC:20240919T110000
DTEND;TZID=UTC:20240919T130000
DTSTAMP:20260424T102427
CREATED:20240907T003743Z
LAST-MODIFIED:20240907T010126Z
UID:8359-1726743600-1726750800@gspe.org
SUMMARY:Augusta Chapter - Augusta Concrete Block Plant Tour
DESCRIPTION:Augusta Chapter Monthly Meeting \nWhen: September 19\, 2024\, 11:00 AM\nWhere: Augusta Concrete Block\n6269 Jefferson Hwy\, North Augusta\, SC 29841 \nGuest Speaker:\nJim Farmer\, Augusta Concrete Block \nProgram:\nTour of the Augusta Concrete Block Plant \nRSVP by: September 16\, 2024 \nFollowing the tour\, we will be meeting for lunch at the BBQ Barn (10298 Atomic Rd). Lunch is optional\, and will be at your own expense. \nPlease make sure to accept the calendar invite and email any questions to Heather.Daniel@Century3Inc.com. \nWe look forward to seeing you there!
URL:https://gspe.org/event/augusta-chapter-augusta-concrete-block-plant-tour/
LOCATION:6269 Jefferson Hwy\, 6269 Jefferson Hwy\, North Augusta\, SC\, 29841\, United States
ATTACH;FMTTYPE=image/png:https://gspe.org/wp-content/uploads/2024/09/Concrete-Block-Tour.png
END:VEVENT
BEGIN:VEVENT
DTSTART;TZID=UTC:20240911T183000
DTEND;TZID=UTC:20240911T200000
DTSTAMP:20260424T102427
CREATED:20240830T202219Z
LAST-MODIFIED:20240907T005215Z
UID:8334-1726079400-1726084800@gspe.org
SUMMARY:Cobb Chapter - Meet the New Dean of Engineering Dr. Lawrence Whitman!
DESCRIPTION:Kennesaw State names new dean to lead engineering college\n\nKENNESAW\, Ga. | Apr 23\, 2024 \n\nKennesaw State University has named engineering leader\, researcher and practitioner Lawrence Whitman as dean of the Southern Polytechnic College of Engineering and Engineering Technology (SPCEET)\, effective July 1. \nWhitman currently serves as dean of the Donaghey College of Science\, Technology\, Engineering and Mathematics (STEM) at the University of Arkansas at Little Rock (UALR). During his tenure at UALR\, he secured one of the university’s largest gifts\, ($6.75 million) for the School of Engineering and Engineering Technology\, facilitated the development of a new cybersecurity degree\, and obtained industry support for new internships and sponsorships for students in multiple disciplines. \n“Dr. Lawrence Whitman brings a unique blend of experience and expertise to our University\,” said Kennesaw State President Kathy Schwaig. “His insights gained from years of industry practice as an engineer\, coupled with his leadership in higher education\, will enrich our engineering programs and further our commitment to excellence in STEM education.” \nIn his position at KSU\, Whitman will provide leadership and strategic direction for Georgia’s second-largest engineering college with nearly 5\,000 students across 17 undergraduate and graduate degree programs. His focus will include planning\, budgeting\, fostering research\, recruiting faculty and students\, and fundraising. He will report directly to Kennesaw State’s provost and executive vice president for academic affairs. \n“Dr. Whitman has a proven track record of fostering innovation\, driving academic rigor and cultivating strategic partnerships which will continue to position the college at the forefront of engineering education and research\,” said Ivan Pulinkala\, KSU’s provost and executive vice president for academic affairs. “I look forward to working with him as he helps lead the college to new heights.” \nAn accomplished engineering professor and researcher\, Whitman has secured more than $2.6 million in scientific funding for research projects\, and his credentials include more than 100 peer-reviewed journal articles and conference proceedings. He is the past treasurer for the Arkansas STEM Coalition and was on the board of directors of the Industrial Engineering Division of the American Society for Engineering Education. Whitman previously served as the associate dean for undergraduate education in Wichita State University’s College of Engineering\, and he was an engineer in the aerospace industry for 10 years prior to entering academia. \n“The Southern Polytechnic College of Engineering and Engineering Technology is well-positioned to make a significant impact on Georgia and the nation\,” Whitman said. “I am thrilled to lead the team of faculty and staff to propel the college forward and improve the lives of our students and the community at large.” \nWhitman received both his bachelor’s degree in mechanical engineering design technology and master’s degree in industrial engineering and management from Oklahoma State University. He earned his doctorate in industrial engineering from the University of Texas at Arlington.
URL:https://gspe.org/event/cobb-chapter-meet-the-new-dean-of-engineering-dr-lawrence-whitman/
LOCATION:Our meeting will be in Room Q204 on the southern Campus of KSU in the Engineering and Technology building Q. You can park in the parking deck adjacent to Building Q.\, 840 Polytechnic Ln\, Marietta\, GA\, 30060\, United States
ATTACH;FMTTYPE=image/png:https://gspe.org/wp-content/uploads/2024/08/Dr-Lawrence-Whitman.png
END:VEVENT
BEGIN:VEVENT
DTSTART;TZID=UTC:20240910T163000
DTEND;TZID=UTC:20240910T190000
DTSTAMP:20260424T102427
CREATED:20240907T004726Z
LAST-MODIFIED:20240907T004726Z
UID:8363-1725985800-1725994800@gspe.org
SUMMARY:NorthWest Chapter - Rome High College and Career Academy Tour and Chapter Meeting
DESCRIPTION:Rome High College and Career Academy Tour and Chapter Meeting \nWhen: Tuesday\, September 10\, 2024\nTime: 4:30 PM (Tour and Presentation) \nWhere:\nRome City School’s College & Career Academy\n1000 Veteran’s Memorial Highway (Behind the high school)\, Rome\, GA 30161 \nGuest Speaker:\nMarores Perry\, Director of CTAE at Rome City Schools\, will lead a presentation and tour of the College and Career Academy. \nAfter the tour\, we will gather for dinner at Sam’s Burger Deli. Meal is optional and will be at your own expense. \nPDH Credit:\nProfessional Development Hours (PDH) will be awarded. \nIf any changes occur\, John Pillsbury will notify everyone via email. If you do not hear from him\, there are no changes to the schedule. \nContact:\nJeff Hampton\, P.E.\nHarcrow Electric\, LLC\nPhone: (706) 602-9473\nCell: (706) 217-8519\nEmail: jeff@harcrowelectric.com \nWe look forward to seeing you there! \n 
URL:https://gspe.org/event/northwest-chapter-rome-high-college-and-career-academy-tour-and-chapter-meeting/
LOCATION:Rome City School’s College & Career Academy\, 1000 Veteran’s Memorial Highway\, Rome\, GA\, 30161\, United States
ATTACH;FMTTYPE=image/png:https://gspe.org/wp-content/uploads/2024/09/College-and-Career.png
END:VEVENT
BEGIN:VEVENT
DTSTART;TZID=UTC:20240909T180000
DTEND;TZID=UTC:20240909T203000
DTSTAMP:20260424T102427
CREATED:20240904T162131Z
LAST-MODIFIED:20240904T163841Z
UID:8351-1725904800-1725913800@gspe.org
SUMMARY:Atlanta Metro - North GA Water Dry Taps Crisis the History\, the Prospects
DESCRIPTION:Join Us for the Georgia Society of Professional Engineers Monthly Dinner Meeting \n🗓 Date: Monday\, September 9\, 2024\n🕕 Time: 6:00 PM\n📍 Location: Piccadilly Cafeteria\, Northlake (2000 Crescent Centre Blvd\, Tucker\, GA 30084) \nTopic: North Georgia Water: History\, Current Atlanta Conditions\, Challenges & Opportunities\nSpeaker: Benjaman L. Moss\, PE – Georgia Water Business Team Leader\, Garver\, LLC \n\nAbout the Event: \nDive into the essential topic of water management in North Georgia with an insightful presentation by Benjaman L. Moss\, PE. Moss will discuss the history\, current state\, and future of Atlanta’s water systems\, including the challenges of infrastructure vulnerabilities and the opportunities for improvement. \nWith Atlanta’s rapid growth and unique geographical challenges\, this is a must-attend event for licensed engineers\, aspiring PEs\, engineering students\, and anyone interested in learning about the critical role of technology and engineering in public health and development. \nNetworking at 6:00 PM\nDinner & Presentation at 7:00 PM \nThis event is FREE and open to the public. Gain insights\, ask questions\, and network with professionals from across the engineering community. \nCan’t attend in person? Don’t worry! The presentation will be archived and available for later viewing on the GSPE YouTube channel: www.youtube.com/GSPEng. \n\nAbout the Speaker: \nBenjaman L. Moss\, PE\, has a distinguished career in water infrastructure\, having commissioned approximately $1 billion in water assets across Georgia. As a 9th-generation Georgian\, Moss brings a wealth of knowledge and experience\, from teaching fluid mechanics at Kennesaw State University to serving on various water and engineering committees. He is also active in local water policy through the Georgia Association of Water Professionals and the Georgia American Water Works Association. \n\nDon’t miss out on this valuable opportunity to connect\, learn\, and grow with GSPE!\nRSVP not required – see you there!
URL:https://gspe.org/event/atlanta-metro-north-ga-water-dry-taps-crisis-the-history-the-prospects/
LOCATION:GA
ATTACH;FMTTYPE=image/png:https://gspe.org/wp-content/uploads/2024/09/GSPE-Events-1.png
END:VEVENT
BEGIN:VEVENT
DTSTART;TZID=UTC:20240822T120000
DTEND;TZID=UTC:20240822T133000
DTSTAMP:20260424T102427
CREATED:20240820T170701Z
LAST-MODIFIED:20240820T171949Z
UID:8315-1724328000-1724333400@gspe.org
SUMMARY:Augusta GSPE Meeting
DESCRIPTION:Please join us for this month’s GSPE luncheon. See invite below (and attached) for more info.
URL:https://gspe.org/event/august-gspe-meeting/
LOCATION:Palmetto Terrace\, 100 Georgia Avenue\, 4th Floor\, North Augusta\, SC\, 29841\, United States
END:VEVENT
BEGIN:VEVENT
DTSTART;TZID=UTC:20240820T170000
DTEND;TZID=UTC:20240820T183000
DTSTAMP:20260424T102427
CREATED:20240820T170259Z
LAST-MODIFIED:20240820T170318Z
UID:8311-1724173200-1724178600@gspe.org
SUMMARY:NWGA Chapter Planning Meeting
DESCRIPTION:Good afternoon all\, \nOur planning meeting for the upcoming year has been scheduled.  This is your opportunity to offer suggestions on possible programs or meeting topics for the new year.  Everyone is invited and encouraged to attend. \n  \nLocation: \nSam’s Burger Deli \n3268 Martha Berry Highway \nRome\, GA 30165 \n  \nDate & Time \nTuesday August 20th\, 2024 \n5:00 PM \n  \nI hope to see you all there!! \n  \nThanks\, \nJeff Hampton\, P.E. \nHarcrow Electric\, LLC \nElectrical Contracting & Engineering
URL:https://gspe.org/event/nwga-chapter-planning-meeting/
LOCATION:Sam’s Burger Deli\, 3268 Martha Berry Highway\, Rome\, GA\, 30165\, United States
END:VEVENT
END:VCALENDAR