BEGIN:VCALENDAR
VERSION:2.0
PRODID:-//Georgia Society of Professional Engineers - ECPv6.15.20//NONSGML v1.0//EN
CALSCALE:GREGORIAN
METHOD:PUBLISH
X-ORIGINAL-URL:https://gspe.org
X-WR-CALDESC:Events for Georgia Society of Professional Engineers
REFRESH-INTERVAL;VALUE=DURATION:PT1H
X-Robots-Tag:noindex
X-PUBLISHED-TTL:PT1H
BEGIN:VTIMEZONE
TZID:UTC
BEGIN:STANDARD
TZOFFSETFROM:+0000
TZOFFSETTO:+0000
TZNAME:UTC
DTSTART:20240101T000000
END:STANDARD
END:VTIMEZONE
BEGIN:VEVENT
DTSTART;TZID=UTC:20250717T120000
DTEND;TZID=UTC:20250717T130000
DTSTAMP:20260424T041939
CREATED:20250708T140206Z
LAST-MODIFIED:20250708T140206Z
UID:11147-1752753600-1752757200@gspe.org
SUMMARY:Virtual: Augusta Chapter Monthly Meeting
DESCRIPTION:Join us for the second summer webinar.  Please register at the link below.  \nAugusta Chapter Monthly Meeting \nSpeaker: Rob Schultz – Invenergy \nTopic: Solar Development \nLocation: Virtual –  https://events.gcc.teams.microsoft.com/event/f4bac88e-acb7-42be-928f-f22ed7d64667@2ba3f5a9-c179-4f8d-b315-b943de0ae23d
URL:https://gspe.org/event/virtual-augusta-chapter-monthly-meeting/
END:VEVENT
BEGIN:VEVENT
DTSTART;TZID=UTC:20250724T170000
DTEND;TZID=UTC:20250724T193000
DTSTAMP:20260424T041939
CREATED:20250627T194510Z
LAST-MODIFIED:20250717T154437Z
UID:11135-1753376400-1753385400@gspe.org
SUMMARY:GSPE Summer Networking Social
DESCRIPTION:Join us for an evening of networking\, drinks\, and light bites with fellow engineers and GSPE members! Whether you’re new to the Georgia Society of Professional Engineers or a long-time member\, this is a great chance to connect with like-minded professionals and learn more about our mission to support the engineering community across the state. \n📍 Hosted by Prime Engineering📅 Thursday\, July 24 | 🕔 5:00 – 7:30 PM \nThis event is open to all engineers\, including members and non-members alike. Bring a colleague\, make new connections\, and see how GSPE can support your professional journey. \nFee: $0 Members / $10 Non-members \n✅ RSVP Here: https://gspesummernetworkingsocia.rsvpify.com \nMembers: Use code GSPEMEM when registering.
URL:https://gspe.org/event/gspe-summer-networking-social/
LOCATION:Prime Engineering\, 3715 Northside Pkwy NW Building 300\, Suite 200\, Atlanta\, GA\, 30327\, United States
END:VEVENT
END:VCALENDAR