BEGIN:VCALENDAR
VERSION:2.0
PRODID:-//Georgia Society of Professional Engineers - ECPv6.15.20//NONSGML v1.0//EN
CALSCALE:GREGORIAN
METHOD:PUBLISH
X-WR-CALNAME:Georgia Society of Professional Engineers
X-ORIGINAL-URL:https://gspe.org
X-WR-CALDESC:Events for Georgia Society of Professional Engineers
REFRESH-INTERVAL;VALUE=DURATION:PT1H
X-Robots-Tag:noindex
X-PUBLISHED-TTL:PT1H
BEGIN:VTIMEZONE
TZID:UTC
BEGIN:STANDARD
TZOFFSETFROM:+0000
TZOFFSETTO:+0000
TZNAME:UTC
DTSTART:20240101T000000
END:STANDARD
END:VTIMEZONE
BEGIN:VEVENT
DTSTART;TZID=UTC:20251003T083000
DTEND;TZID=UTC:20251003T150000
DTSTAMP:20260424T000922
CREATED:20250813T205314Z
LAST-MODIFIED:20251002T133511Z
UID:11165-1759480200-1759503600@gspe.org
SUMMARY:Charity Golf Tournament to Support Georgia MATHCOUNTS FOUNDATION
DESCRIPTION:Join the Georgia Society of Professional Engineers and the Georgia MATHCOUNTS Foundation as we raise funds for Georgia’s MATHCOUNTS competitions for middle school students. MATHCOUNTS is a nationwide program that provides engaging math programs to middle school students to build confidence and improve attitudes toward math and problem-solving. \nSign Up Today at charitygolftoday.com/2025georgiamathcounts
URL:https://gspe.org/event/charity-golf-tournament-to-support-georgia-mathcounts-foundation/
LOCATION:Mystery Valley Golf Club\, 6094 Shadow Rock Dr\, Lithonia\, GA\, 30058\, United States
END:VEVENT
BEGIN:VEVENT
DTSTART;VALUE=DATE:20251010
DTEND;VALUE=DATE:20251011
DTSTAMP:20260424T000922
CREATED:20251008T025024Z
LAST-MODIFIED:20251008T025036Z
UID:11444-1760054400-1760140799@gspe.org
SUMMARY:Deadline for GSPE Engineer of the Year Awards
DESCRIPTION:GSPE Engineer of the Year Awards\n\nThe GSPE Engineer of the Year Awards is an annual recognition program organized by the Georgia Society of Professional Engineers (GSPE). These awards aim to honor outstanding professional engineers who have made significant contributions to the engineering profession and their communities in Georgia. \nThe program includes different categories of awards to recognize engineers at various stages of their careers and from diverse engineering disciplines. These awards\, presented by GEORGIA SOCIETY OF PROFESSIONAL ENGINEERS\, are presented at the ACEC Engineering Excellence Awards program March 6\, 2026. \n\n\n\n\n\n\n\n\nDeadline Updated: Now October 10
URL:https://gspe.org/event/deadline-for-gspe-engineer-of-the-year-awards/
END:VEVENT
BEGIN:VEVENT
DTSTART;TZID=UTC:20251013T180000
DTEND;TZID=UTC:20251013T200000
DTSTAMP:20260424T000922
CREATED:20251002T132823Z
LAST-MODIFIED:20251002T133509Z
UID:11434-1760378400-1760385600@gspe.org
SUMMARY:Decoding Engineering Ethics - Metro Atlanta Chapter Monthly Meeting
DESCRIPTION:Decoding Engineering EthicsMonthly Meeting of the Georgia Society of Professional EngineersMonday\, October 13\, 2025 | 6:00 PMPiccadilly Cafeteria – 2000 Crescent Centre Blvd.\, Tucker\, GA 30084Free Admission | 1 PDH Credit Offered \nFeatured Speaker:Dr. Robert Kirkman\, PhDAssociate Professor\, Jimmy & Rosalynn Carter School of Public Policy\, Georgia Tech \nJoin GSPE for our October dinner meeting and a thought-provoking presentation by Dr. Robert Kirkman on Decoding Professional Ethics. With wit and insight\, Dr. Kirkman challenges common assumptions about ethics in engineering practice\, including the notion that ethics can be boiled down to a decision-making algorithm. \nAttendees will explore how ethics truly operates in engineering—not only through codes and laws\, but through deeper reflection\, imagination\, and attention to the real-world consequences of design and decision-making. \nThis free\, in-person gathering is open to licensed engineers\, aspiring PEs\, engineering students\, policymakers\, and members of the public interested in how engineering intersects with public welfare\, safety\, and trust. \nAbout the Speaker:Dr. Robert Kirkman teaches engineering and environmental ethics at Georgia Tech and is the author of Skeptical Environmentalism and The Ethics of Metropolitan Growth. Learn more about his work at ethicsafield.com. \nPDH Credit:This session qualifies for one Professional Development Hour for currently licensed engineers in Georgia. \n📍 No RSVP needed. Just bring your curiosity—and your appetite!🕕 Doors open at 6:00 PM. Dinner is available for purchase.
URL:https://gspe.org/event/11434/
LOCATION:Piccadilly Cafeteria\, Tucker\, 2000 Crescent Centre Blvd\, Tucker\, GA\, 30084\, United States
END:VEVENT
BEGIN:VEVENT
DTSTART;TZID=UTC:20251015T180000
DTEND;TZID=UTC:20251015T200000
DTSTAMP:20260424T000922
CREATED:20251002T165902Z
LAST-MODIFIED:20251002T170939Z
UID:11437-1760551200-1760558400@gspe.org
SUMMARY:Lighting the Way to the World Cup: GDOT's Plans for 2026
DESCRIPTION:Lighting the Way to the World Cup: GDOT’s Plans for 2026\nCobb Chapter Monthly Meeting\nGeorgia Society of Professional Engineers\n📅 Wednesday\, October 15\, 2025\n🕕 Networking: 6:00–6:45 PM | Program begins: 7:00 PM\n📍  Kennesaw state University\, Marietta Campus in Q-204 inside Building Q adjacent to the Parking Deck located at 1100 South Marietta Parkway SE\, Marietta\, GA 30060 \nJoin the GSPE Cobb Chapter for our October meeting featuring a special presentation by Robert L. Graham\, P.E.\, Roadway Lighting Group Leader at the Georgia Department of Transportation (GDOT). \nWith the FIFA World Cup coming to North America in 2026\, cities and states across the country are preparing for a massive influx of visitors and international attention. In this timely and insightful session\, Mr. Graham will share how GDOT and local municipalities are planning infrastructure enhancements—particularly roadway lighting—to support safety\, mobility\, and visibility ahead of this global event. \nThis is a unique opportunity to learn how engineering plays a crucial role in preparing Georgia for the world stage. \n👷 Who Should Attend:\nLicensed engineers\, aspiring PEs\, students\, transportation professionals\, and anyone curious about Georgia’s infrastructure initiatives. \n🆓 Free to attend | 1 PDH credit offered
URL:https://gspe.org/event/lighting-the-way-to-the-world-cup-gdots-plans-for-2026/
END:VEVENT
END:VCALENDAR